BEGIN:VCALENDAR
VERSION:2.0
PRODID:-//Vál község - ECPv6.15.20//NONSGML v1.0//EN
CALSCALE:GREGORIAN
METHOD:PUBLISH
X-WR-CALNAME:Vál község
X-ORIGINAL-URL:https://val.hu
X-WR-CALDESC:Események Vál község
REFRESH-INTERVAL;VALUE=DURATION:PT1H
X-Robots-Tag:noindex
X-PUBLISHED-TTL:PT1H
BEGIN:VTIMEZONE
TZID:Europe/Budapest
BEGIN:DAYLIGHT
TZOFFSETFROM:+0100
TZOFFSETTO:+0200
TZNAME:CEST
DTSTART:20250330T010000
END:DAYLIGHT
BEGIN:STANDARD
TZOFFSETFROM:+0200
TZOFFSETTO:+0100
TZNAME:CET
DTSTART:20251026T010000
END:STANDARD
BEGIN:DAYLIGHT
TZOFFSETFROM:+0100
TZOFFSETTO:+0200
TZNAME:CEST
DTSTART:20260329T010000
END:DAYLIGHT
BEGIN:STANDARD
TZOFFSETFROM:+0200
TZOFFSETTO:+0100
TZNAME:CET
DTSTART:20261025T010000
END:STANDARD
BEGIN:DAYLIGHT
TZOFFSETFROM:+0100
TZOFFSETTO:+0200
TZNAME:CEST
DTSTART:20270328T010000
END:DAYLIGHT
BEGIN:STANDARD
TZOFFSETFROM:+0200
TZOFFSETTO:+0100
TZNAME:CET
DTSTART:20271031T010000
END:STANDARD
END:VTIMEZONE
BEGIN:VEVENT
DTSTART;TZID=Europe/Budapest:20260430T080000
DTEND;TZID=Europe/Budapest:20260430T170000
DTSTAMP:20260421T105145
CREATED:20260112T150243Z
LAST-MODIFIED:20260112T150243Z
UID:10000070-1777536000-1777568400@val.hu
SUMMARY:Könyvtár Mozi→ A magyar film napja
DESCRIPTION:
URL:https://val.hu/esemeny/konyvtar-mozi%e2%86%92-a-magyar-film-napja/
END:VEVENT
BEGIN:VEVENT
DTSTART;TZID=Europe/Budapest:20260501T080000
DTEND;TZID=Europe/Budapest:20260501T170000
DTSTAMP:20260421T105145
CREATED:20260112T150258Z
LAST-MODIFIED:20260112T150258Z
UID:10000071-1777622400-1777654800@val.hu
SUMMARY:Kispályás utcabajnokság
DESCRIPTION:
URL:https://val.hu/esemeny/kispalyas-utcabajnoksag-2/
END:VEVENT
BEGIN:VEVENT
DTSTART;TZID=Europe/Budapest:20260516T080000
DTEND;TZID=Europe/Budapest:20260516T170000
DTSTAMP:20260421T105145
CREATED:20260112T150314Z
LAST-MODIFIED:20260112T150314Z
UID:10000072-1778918400-1778950800@val.hu
SUMMARY:Őszidő nyugdíjas klub\, Batyusbál
DESCRIPTION:
URL:https://val.hu/esemeny/oszido-nyugdijas-klub-batyusbal/
END:VEVENT
BEGIN:VEVENT
DTSTART;TZID=Europe/Budapest:20260518T080000
DTEND;TZID=Europe/Budapest:20260518T170000
DTSTAMP:20260421T105145
CREATED:20260112T151836Z
LAST-MODIFIED:20260112T151836Z
UID:10000073-1779091200-1779123600@val.hu
SUMMARY:Könyvtár\, Mesetár
DESCRIPTION:
URL:https://val.hu/esemeny/konyvtar-mesetar-4/
END:VEVENT
BEGIN:VEVENT
DTSTART;TZID=Europe/Budapest:20260529T080000
DTEND;TZID=Europe/Budapest:20260529T170000
DTSTAMP:20260421T105145
CREATED:20260112T151857Z
LAST-MODIFIED:20260112T151857Z
UID:10000074-1780041600-1780074000@val.hu
SUMMARY:Óvodai ballagás
DESCRIPTION:
URL:https://val.hu/esemeny/ovodai-ballagas/
END:VEVENT
BEGIN:VEVENT
DTSTART;TZID=Europe/Budapest:20260530T080000
DTEND;TZID=Europe/Budapest:20260530T170000
DTSTAMP:20260421T105145
CREATED:20260112T151919Z
LAST-MODIFIED:20260112T151919Z
UID:10000075-1780128000-1780160400@val.hu
SUMMARY:Gyerekberek gyereknap
DESCRIPTION:
URL:https://val.hu/esemeny/gyerekberek-gyereknap-2/
END:VEVENT
BEGIN:VEVENT
DTSTART;TZID=Europe/Budapest:20260602T080000
DTEND;TZID=Europe/Budapest:20260602T170000
DTSTAMP:20260421T105145
CREATED:20260112T151945Z
LAST-MODIFIED:20260112T151945Z
UID:10000076-1780387200-1780419600@val.hu
SUMMARY:Könyvtár\, Kézművesked(d)j!
DESCRIPTION:
URL:https://val.hu/esemeny/konyvtar-kezmuveskeddj/
END:VEVENT
BEGIN:VEVENT
DTSTART;TZID=Europe/Budapest:20260604T080000
DTEND;TZID=Europe/Budapest:20260604T170000
DTSTAMP:20260421T105145
CREATED:20260112T152004Z
LAST-MODIFIED:20260112T152004Z
UID:10000077-1780560000-1780592400@val.hu
SUMMARY:Trianoni emlékműsor
DESCRIPTION:
URL:https://val.hu/esemeny/trianoni-emlekmusor/
END:VEVENT
BEGIN:VEVENT
DTSTART;TZID=Europe/Budapest:20260606T080000
DTEND;TZID=Europe/Budapest:20260606T170000
DTSTAMP:20260421T105145
CREATED:20260112T152019Z
LAST-MODIFIED:20260112T152019Z
UID:10000078-1780732800-1780765200@val.hu
SUMMARY:Válkörzés
DESCRIPTION:
URL:https://val.hu/esemeny/valkorzes/
END:VEVENT
BEGIN:VEVENT
DTSTART;TZID=Europe/Budapest:20260607T080000
DTEND;TZID=Europe/Budapest:20260607T170000
DTSTAMP:20260421T105145
CREATED:20260112T152039Z
LAST-MODIFIED:20260112T152039Z
UID:10000079-1780819200-1780851600@val.hu
SUMMARY:Úrnapi virágszőnyeg
DESCRIPTION:
URL:https://val.hu/esemeny/urnapi-viragszonyeg/
END:VEVENT
BEGIN:VEVENT
DTSTART;TZID=Europe/Budapest:20260611T080000
DTEND;TZID=Europe/Budapest:20260614T170000
DTSTAMP:20260421T105145
CREATED:20260112T152107Z
LAST-MODIFIED:20260112T152107Z
UID:10000080-1781164800-1781456400@val.hu
SUMMARY:Könyvtár\, Ünnepi Könyvhét
DESCRIPTION:
URL:https://val.hu/esemeny/konyvtar-unnepi-konyvhet/
END:VEVENT
BEGIN:VEVENT
DTSTART;TZID=Europe/Budapest:20260630T080000
DTEND;TZID=Europe/Budapest:20260630T170000
DTSTAMP:20260421T105145
CREATED:20260112T152124Z
LAST-MODIFIED:20260112T152124Z
UID:10000081-1782806400-1782838800@val.hu
SUMMARY:Iskolai ballagás\, évzáró
DESCRIPTION:
URL:https://val.hu/esemeny/iskolai-ballagas-evzaro/
END:VEVENT
BEGIN:VEVENT
DTSTART;TZID=Europe/Budapest:20260725T080000
DTEND;TZID=Europe/Budapest:20260725T170000
DTSTAMP:20260421T105145
CREATED:20260112T152140Z
LAST-MODIFIED:20260112T152140Z
UID:10000082-1784966400-1784998800@val.hu
SUMMARY:III. Varga Zoltán Emléktorna
DESCRIPTION:
URL:https://val.hu/esemeny/iii-varga-zoltan-emlektorna/
END:VEVENT
BEGIN:VEVENT
DTSTART;TZID=Europe/Budapest:20260727T080000
DTEND;TZID=Europe/Budapest:20260731T170000
DTSTAMP:20260421T105145
CREATED:20260112T152223Z
LAST-MODIFIED:20260112T152223Z
UID:10000083-1785139200-1785517200@val.hu
SUMMARY:Katolikus hittantábor
DESCRIPTION:
URL:https://val.hu/esemeny/katolikus-hittantabor/
END:VEVENT
BEGIN:VEVENT
DTSTART;TZID=Europe/Budapest:20260807T080000
DTEND;TZID=Europe/Budapest:20260807T170000
DTSTAMP:20260421T105145
CREATED:20260112T152239Z
LAST-MODIFIED:20260112T152239Z
UID:10000084-1786089600-1786122000@val.hu
SUMMARY:Könyvtár\, Könyvtári kirándulás
DESCRIPTION:
URL:https://val.hu/esemeny/konyvtar-konyvtari-kirandulas/
END:VEVENT
BEGIN:VEVENT
DTSTART;TZID=Europe/Budapest:20260909T080000
DTEND;TZID=Europe/Budapest:20260909T170000
DTSTAMP:20260421T105145
CREATED:20260112T152256Z
LAST-MODIFIED:20260112T152256Z
UID:10000085-1788940800-1788973200@val.hu
SUMMARY:Könyvtár\, KönyvtárMozi
DESCRIPTION:
URL:https://val.hu/esemeny/konyvtar-konyvtarmozi/
END:VEVENT
BEGIN:VEVENT
DTSTART;TZID=Europe/Budapest:20260914T080000
DTEND;TZID=Europe/Budapest:20260914T170000
DTSTAMP:20260421T105145
CREATED:20260112T152314Z
LAST-MODIFIED:20260112T152314Z
UID:10000086-1789372800-1789405200@val.hu
SUMMARY:Könyvtár\, Mesetár
DESCRIPTION:
URL:https://val.hu/esemeny/konyvtar-mesetar-5/
END:VEVENT
BEGIN:VEVENT
DTSTART;TZID=Europe/Budapest:20260919T080000
DTEND;TZID=Europe/Budapest:20260919T170000
DTSTAMP:20260421T105145
CREATED:20260112T152331Z
LAST-MODIFIED:20260112T152331Z
UID:10000087-1789804800-1789837200@val.hu
SUMMARY:Szüreti bál
DESCRIPTION:
URL:https://val.hu/esemeny/szureti-bal/
END:VEVENT
BEGIN:VEVENT
DTSTART;TZID=Europe/Budapest:20260926T080000
DTEND;TZID=Europe/Budapest:20260926T170000
DTSTAMP:20260421T105145
CREATED:20260112T152347Z
LAST-MODIFIED:20260112T152347Z
UID:10000088-1790409600-1790442000@val.hu
SUMMARY:4.Barangoló
DESCRIPTION:
URL:https://val.hu/esemeny/4-barangolo/
END:VEVENT
BEGIN:VEVENT
DTSTART;TZID=Europe/Budapest:20260930T080000
DTEND;TZID=Europe/Budapest:20260930T170000
DTSTAMP:20260421T105145
CREATED:20260112T152406Z
LAST-MODIFIED:20260112T152406Z
UID:10000089-1790755200-1790787600@val.hu
SUMMARY:Könyvtár\, Népmese Napja
DESCRIPTION:
URL:https://val.hu/esemeny/konyvtar-nepmese-napja/
END:VEVENT
BEGIN:VEVENT
DTSTART;TZID=Europe/Budapest:20261005T080000
DTEND;TZID=Europe/Budapest:20261011T170000
DTSTAMP:20260421T105145
CREATED:20260112T152425Z
LAST-MODIFIED:20260112T152425Z
UID:10000090-1791187200-1791738000@val.hu
SUMMARY:Könyvtár\, Országos Könyvtári Napok
DESCRIPTION:
URL:https://val.hu/esemeny/konyvtar-orszagos-konyvtari-napok/
END:VEVENT
BEGIN:VEVENT
DTSTART;TZID=Europe/Budapest:20261017T080000
DTEND;TZID=Europe/Budapest:20261017T170000
DTSTAMP:20260421T105145
CREATED:20260112T152444Z
LAST-MODIFIED:20260112T152444Z
UID:10000091-1792224000-1792256400@val.hu
SUMMARY:Csemetefa ültetés\, Elszármazottak találkozója
DESCRIPTION:
URL:https://val.hu/esemeny/csemetefa-ultetes-elszarmazottak-talalkozoja/
END:VEVENT
BEGIN:VEVENT
DTSTART;TZID=Europe/Budapest:20261019T080000
DTEND;TZID=Europe/Budapest:20261019T170000
DTSTAMP:20260421T105145
CREATED:20260112T152501Z
LAST-MODIFIED:20260112T152501Z
UID:10000092-1792396800-1792429200@val.hu
SUMMARY:Könyvtár\, Mesetár
DESCRIPTION:
URL:https://val.hu/esemeny/konyvtar-mesetar-6/
END:VEVENT
BEGIN:VEVENT
DTSTART;TZID=Europe/Budapest:20261107T080000
DTEND;TZID=Europe/Budapest:20261107T170000
DTSTAMP:20260421T105145
CREATED:20260112T152517Z
LAST-MODIFIED:20260112T152517Z
UID:10000093-1794038400-1794070800@val.hu
SUMMARY:Márton napi lámpás felvonulás
DESCRIPTION:
URL:https://val.hu/esemeny/marton-napi-lampas-felvonulas-2/
END:VEVENT
BEGIN:VEVENT
DTSTART;TZID=Europe/Budapest:20261114T080000
DTEND;TZID=Europe/Budapest:20261114T170000
DTSTAMP:20260421T105145
CREATED:20260112T152532Z
LAST-MODIFIED:20260112T152532Z
UID:10000094-1794643200-1794675600@val.hu
SUMMARY:Mesebál
DESCRIPTION:
URL:https://val.hu/esemeny/mesebal/
END:VEVENT
BEGIN:VEVENT
DTSTART;TZID=Europe/Budapest:20261119T080000
DTEND;TZID=Europe/Budapest:20261119T170000
DTSTAMP:20260421T105145
CREATED:20260112T152550Z
LAST-MODIFIED:20260112T152550Z
UID:10000095-1795075200-1795107600@val.hu
SUMMARY:Könyvtár\, Magyar népdal és népköltészet hete
DESCRIPTION:
URL:https://val.hu/esemeny/konyvtar-magyar-nepdal-es-nepkolteszet-hete/
END:VEVENT
BEGIN:VEVENT
DTSTART;TZID=Europe/Budapest:20261128T080000
DTEND;TZID=Europe/Budapest:20261128T170000
DTSTAMP:20260421T105145
CREATED:20260112T152607Z
LAST-MODIFIED:20260112T152607Z
UID:10000096-1795852800-1795885200@val.hu
SUMMARY:Adventi koszorúkészítés
DESCRIPTION:
URL:https://val.hu/esemeny/adventi-koszorukeszites/
END:VEVENT
BEGIN:VEVENT
DTSTART;TZID=Europe/Budapest:20261129T080000
DTEND;TZID=Europe/Budapest:20261129T170000
DTSTAMP:20260421T105145
CREATED:20260112T152622Z
LAST-MODIFIED:20260112T152622Z
UID:10000097-1795939200-1795971600@val.hu
SUMMARY:Adventi gyertyagyújtás
DESCRIPTION:
URL:https://val.hu/esemeny/adventi-gyertyagyujtas/
END:VEVENT
BEGIN:VEVENT
DTSTART;TZID=Europe/Budapest:20261205T080000
DTEND;TZID=Europe/Budapest:20261205T170000
DTSTAMP:20260421T105145
CREATED:20260112T152637Z
LAST-MODIFIED:20260112T152637Z
UID:10000098-1796457600-1796490000@val.hu
SUMMARY:Adventi vásár
DESCRIPTION:
URL:https://val.hu/esemeny/adventi-vasar-2/
END:VEVENT
BEGIN:VEVENT
DTSTART;TZID=Europe/Budapest:20261206T080000
DTEND;TZID=Europe/Budapest:20261206T170000
DTSTAMP:20260421T105145
CREATED:20260112T152653Z
LAST-MODIFIED:20260112T152653Z
UID:10000099-1796544000-1796576400@val.hu
SUMMARY:Adventi gyertyagyújtás
DESCRIPTION:
URL:https://val.hu/esemeny/adventi-gyertyagyujtas-2/
END:VEVENT
END:VCALENDAR